BEGIN:VCALENDAR
VERSION:2.0
PRODID:-//ChamberMaster//Event Calendar 2.0//EN
METHOD:PUBLISH
X-PUBLISHED-TTL:P1H
REFRESH-INTERVAL:P1H
CALSCALE:GREGORIAN
BEGIN:VTIMEZONE
TZID:America/Chicago
BEGIN:DAYLIGHT
RRULE:FREQ=YEARLY;BYMONTH=3;BYDAY=2SU
DTSTART:20070101T000000
TZOFFSETFROM:-0600
TZOFFSETTO:-0500
TZNAME:Central Daylight Time
END:DAYLIGHT
BEGIN:STANDARD
RRULE:FREQ=YEARLY;BYMONTH=11;BYDAY=1SU
DTSTART:20070101T000000
TZOFFSETFROM:-0500
TZOFFSETTO:-0600
TZNAME:Central Standard Time
END:STANDARD
END:VTIMEZONE
BEGIN:VEVENT
DTSTART;TZID=America/Chicago:20260430T173000
DTEND;TZID=America/Chicago:20260430T200000
X-MICROSOFT-CDO-ALLDAYEVENT:FALSE
SUMMARY:Annual Meeting
DESCRIPTION:Please join us for the MHBA Annual Meeting on Thursday April 30! Hear about the MHBA's accomplishments over the last board term and elect the new Board of Directors. We hope to see you at 5:30 for the social with the meeting starting at 6:30!\nPlease ensure you are a member in good standing with the MHBA to be eligible to vote at the annual meeting. Not a member? Click here to become a member.  Interested in joining the MHBA Board of Directors? Click here to learn more and apply.
X-ALT-DESC;FMTTYPE=text/html:<!DOCTYPE html><html><head><title></title></head><body aria-disabled="false"><p>Please join us for the MHBA Annual Meeting on Thursday April 30! Hear about the MHBA&#39\;s accomplishments over the last board term and elect the new Board of Directors. We hope to see you at 5:30 for the social with the meeting starting at 6:30!</p><p><br></p><p>Please ensure you are a member in good standing with the MHBA to be eligible to vote at the annual meeting. Not a member? <a fr-original-style="" href="https://members.minnhba.org/ap/Membership/Application/QraNGkpW" rel="noopener noreferrer" style="user-select: auto\;" target="_blank">Click here</a> to become a member. &nbsp\;</p><p>Interested in joining the MHBA Board of Directors? <a fr-original-style="" href="https://forms.gle/puBGvYyuosvF2Fpi8" rel="noopener noreferrer" style="user-select: auto\;" target="_blank">Click here</a> to learn more and apply.&nbsp\;</p></body></html>
LOCATION:225 South 6th St Minneapolis
UID:e.4535.1446289
SEQUENCE:3
DTSTAMP:20260424T160946Z
URL:https://members.minnhba.org/event-calendar-list/Details/annual-meeting-1713020?sourceTypeId=Hub
END:VEVENT
END:VCALENDAR
